BEGIN:VCALENDAR
VERSION:2.0
PRODID:-//Carolina Dive Center - ECPv6.15.20//NONSGML v1.0//EN
CALSCALE:GREGORIAN
METHOD:PUBLISH
X-WR-CALNAME:Carolina Dive Center
X-ORIGINAL-URL:https://carolinadivecenter.com
X-WR-CALDESC:Events for Carolina Dive Center
REFRESH-INTERVAL;VALUE=DURATION:PT1H
X-Robots-Tag:noindex
X-PUBLISHED-TTL:PT1H
BEGIN:VTIMEZONE
TZID:America/New_York
BEGIN:DAYLIGHT
TZOFFSETFROM:-0500
TZOFFSETTO:-0400
TZNAME:EDT
DTSTART:20250309T070000
END:DAYLIGHT
BEGIN:STANDARD
TZOFFSETFROM:-0400
TZOFFSETTO:-0500
TZNAME:EST
DTSTART:20251102T060000
END:STANDARD
BEGIN:DAYLIGHT
TZOFFSETFROM:-0500
TZOFFSETTO:-0400
TZNAME:EDT
DTSTART:20260308T070000
END:DAYLIGHT
BEGIN:STANDARD
TZOFFSETFROM:-0400
TZOFFSETTO:-0500
TZNAME:EST
DTSTART:20261101T060000
END:STANDARD
BEGIN:DAYLIGHT
TZOFFSETFROM:-0500
TZOFFSETTO:-0400
TZNAME:EDT
DTSTART:20270314T070000
END:DAYLIGHT
BEGIN:STANDARD
TZOFFSETFROM:-0400
TZOFFSETTO:-0500
TZNAME:EST
DTSTART:20271107T060000
END:STANDARD
END:VTIMEZONE
BEGIN:VEVENT
DTSTART;VALUE=DATE:20260718
DTEND;VALUE=DATE:20260720
DTSTAMP:20260424T124952
CREATED:20260411T113317Z
LAST-MODIFIED:20260411T113317Z
UID:10000469-1784332800-1784505599@carolinadivecenter.com
SUMMARY:Deep Specialty
DESCRIPTION:Saturday and Sunday July 18th and 19th on Olympus Dive Charters \nThe Carolina Coast is one of the premier Ship Wreck diving location. We are known as the GRAVE YARD OF THE ATLANTIÇ.  There’s something exciting and mysterious about exploring deeper dive sites while scuba diving. Sometimes it’s a wreck that attracts you below 18 metres/60 feet\, and on wall dives it may be a giant fan or sponge. Whatever it is\, to scuba dive with confidence at depths down to 40 metres/130 feet\, you should take the PADI Deep Diver Specialty course. \nThe Deep Diver Specialty Certification provides one of the 5 specialties you need to achieve the coveted  Master Diver Rating. \nWhat You Will LearnOur training starts by reviewing reasons for deep diving and how important it is to know your personal limits. During four deep dives with your instructor\, you’ll go over: \n\nSpecialized deep diving equipment.\nDeep dive planning\, buddy contact procedures and buoyancy control.\nManaging your gas supply\, dealing with gas narcosis and safety considerations.\n\nHere is how it works: \nDeep Diver tuition is $299 and includes: \n\neLearning Academics\nKnowledge Review with your Instructor\nFour Deep Training Dives with one of our Instructors (Charter cost not included.)\nPADI Certification Processing Fee\nIssuing your Deep Diver  Certification eCard\nLots of Fun\n\n  \n\nIf you have an issue with our Paypal ticket system below\nPlease Click Here To Register For Deep Specialty Class\n\n 
URL:https://carolinadivecenter.com/event/deep-specialty-10/
LOCATION:Olympus Dive Center\, 713 Shepard Street\, Morehead City\, NC\, 28557\, United States
CATEGORIES:Classes
ATTACH;FMTTYPE=image/jpeg:https://carolinadivecenter.com/wp-content/uploads/2024/11/PADI_Specialty_courses.jpg
ORGANIZER;CN="Carolina Dive Center":MAILTO:Info@CarolinaDiveCenter.com
END:VEVENT
BEGIN:VEVENT
DTSTART;TZID=America/New_York:20260718T060000
DTEND;TZID=America/New_York:20260718T160000
DTSTAMP:20260424T124952
CREATED:20251225T155105Z
LAST-MODIFIED:20260410T104854Z
UID:10000387-1784354400-1784390400@carolinadivecenter.com
SUMMARY:Olympus Offshore Charter - July 18th
DESCRIPTION:Full Day Dive Trip consists of two dives\, at one or two locations determined the morning of the dives by weather/sea conditions and customer preference. Bottom times are dictated by no-decompression limits. \nDepths: 90′ – 120′ \nPossible Sites: U-352\, Papoose\, Schurz\, Aeolus\, Spar\, Caribsea\, Atlas \n  \nNumber of Dives on This Charter: 2. \nDeparture Marina: Olympus Dive Center\, Morehead City NC \n  \nCharter Cost: $182 \nExperiance Requirements For This Dive \n\nMust have Advanced Open Water or Deep specialty certifications (or equivalent dive experience).\nDivers are required to dive Nitrox.\nDivers can complete Deep specialty training on these trips. Students completing Deep  specialty will dive with one of our instructors.\nA minimum of 25 logged dives.\nAt least 2 dives in the ocean to 70 feet or greater.\nAt least 2 logged boat ocean dives.\nAt least 2 Open Water dives in the last 12 months. (i.e.\, ocean\, 20+ Acre quarry/body of water).\nMust be 15 years old.\n\n  \nDivers have the option to stay at the Olympus Dive Lodge on Friday night. \nReserve your seat with a $50 deposit or call us at (919) 341-2787. \n  \n\nIf you have any issues with our Paypal Ticket System Below\, Please \nClick Here To Register For Olympus Charter \n\n 
URL:https://carolinadivecenter.com/event/olympus-offshore-charter/
LOCATION:Olympus Dive Center\, 713 Shepard Street\, Morehead City\, NC\, 28557\, United States
CATEGORIES:CHARTERS
ATTACH;FMTTYPE=image/jpeg:https://carolinadivecenter.com/wp-content/uploads/2025/12/U-352-Wreck-1-840x560-1.jpg
ORGANIZER;CN="Carolina Dive Center":MAILTO:Info@CarolinaDiveCenter.com
END:VEVENT
BEGIN:VEVENT
DTSTART;TZID=America/New_York:20260719T060000
DTEND;TZID=America/New_York:20260719T160000
DTSTAMP:20260424T124952
CREATED:20251225T205229Z
LAST-MODIFIED:20260410T105217Z
UID:10000388-1784440800-1784476800@carolinadivecenter.com
SUMMARY:Olympus Offshore Charter - July 19th
DESCRIPTION:Full Day Dive Trip consists of two dives\, at one or two locations determined the morning of the dives by weather/sea conditions and customer preference. Bottom times are dictated by no-decompression limits. \nDepths: 90′ – 120′ \nPossible Sites: U-352\, Papoose\, Schurz\, Aeolus\, Spar\, Caribsea\, Atlas \n  \nNumber of Dives on This Charter: 2. \nDeparture Marina: Olympus Dive Center\, Morehead City NC \n  \nCharter Cost: $182 \nExperiance Requirements For This Dive \n\nMust have Advanced Open Water or Deep specialty certifications (or equivalent dive experience).\nDivers are required to dive Nitrox.\nDivers can complete Deep specialty training on these trips. Students completing Deep  specialty will dive with one of our instructors.\nA minimum of 25 logged dives.\nAt least 2 dives in the ocean to 70 feet or greater.\nAt least 2 logged boat ocean dives.\nAt least 2 Open Water dives in the last 12 months. (i.e.\, ocean\, 20+ Acre quarry/body of water).\nMust be 15 years old.\n\n  \nDivers have the option to stay at the Olympus Dive Lodge on Saturday night. \nReserve your seat with a $50 deposit or call us at (919) 341-2787. \n  \n\nIf you have any issues with our Paypal Ticket System below\, Please \nClick Here To Register For Olympus Dive Charter. \n\n 
URL:https://carolinadivecenter.com/event/olympus-offshore-charter-2/
LOCATION:Olympus Dive Center\, 713 Shepard Street\, Morehead City\, NC\, 28557\, United States
CATEGORIES:CHARTERS
ATTACH;FMTTYPE=image/jpeg:https://carolinadivecenter.com/wp-content/uploads/2025/12/U-352-Wreck-1-840x560-1.jpg
ORGANIZER;CN="Carolina Dive Center":MAILTO:Info@CarolinaDiveCenter.com
END:VEVENT
END:VCALENDAR